BEGIN:VCALENDAR
VERSION:2.0
PRODID:icalendar-ruby
CALSCALE:GREGORIAN
METHOD:PUBLISH
BEGIN:VEVENT
DTSTAMP:20260421T040210Z
UID:5-400434@graceumcchester.com
DTSTART:20261101T183000Z
DTEND:20261101T193000Z
CLASS:PUBLIC
CREATED:20260420T182740
DESCRIPTION:Sunday Worship
LAST-MODIFIED:20260420T182740
LOCATION:
SUMMARY:Sunday Worship
URL;VALUE=URI:https://www.graceumcchester.com/events/sunday-worship/2026-11
 -01
END:VEVENT
END:VCALENDAR
