BEGIN:VCALENDAR
VERSION:2.0
PRODID:icalendar-ruby
CALSCALE:GREGORIAN
METHOD:PUBLISH
BEGIN:VEVENT
DTSTAMP:20260421T024040Z
UID:5-400433@graceumcchester.com
DTSTART:20261025T173000Z
DTEND:20261025T183000Z
CLASS:PUBLIC
CREATED:20260420T182740
DESCRIPTION:Sunday Worship
LAST-MODIFIED:20260420T182740
LOCATION:
SUMMARY:Sunday Worship
URL;VALUE=URI:https://www.graceumcchester.com/events/sunday-worship/2026-10
 -25
END:VEVENT
END:VCALENDAR
