BEGIN:VCALENDAR
VERSION:2.0
PRODID:icalendar-ruby
CALSCALE:GREGORIAN
METHOD:PUBLISH
BEGIN:VEVENT
DTSTAMP:20260420T235321Z
UID:5-400170@graceumcchester.com
DTSTART:20261011T173000Z
DTEND:20261011T183000Z
CLASS:PUBLIC
CREATED:20260420T155325
DESCRIPTION:Sunday Worship
LAST-MODIFIED:20260420T155325
LOCATION:
SUMMARY:Sunday Worship
URL;VALUE=URI:https://www.graceumcchester.com/events/sunday-worship/2026-10
 -11
END:VEVENT
END:VCALENDAR
