BEGIN:VCALENDAR
VERSION:2.0
PRODID:icalendar-ruby
CALSCALE:GREGORIAN
METHOD:PUBLISH
BEGIN:VEVENT
DTSTAMP:20260420T182447Z
UID:5-399644@graceumcchester.com
DTSTART:20260913T173000Z
DTEND:20260913T183000Z
CLASS:PUBLIC
CREATED:20260420T104234
DESCRIPTION:Sunday Worship
LAST-MODIFIED:20260420T104234
LOCATION:
SUMMARY:Sunday Worship
URL;VALUE=URI:https://www.graceumcchester.com/events/sunday-worship/2026-09
 -13
END:VEVENT
END:VCALENDAR
